BEGIN:VCALENDAR
VERSION:2.0
PRODID:-//English Teachers Association of Japan
CALSCALE:GREGORIAN
METHOD:PUBLISH
X-WR-CALNAME:English Teachers Association of Japan
X-ORIGINAL-URL:https://etaj.org/event/individual_type
X-WR-CALDESC:ETAJ 勉強会：生徒を「ひとりの人間」として尊重するために
BEGIN:VEVENT
DTSTART:20180408T090000
DTEND:20180408T100000
SUMMARY:ETAJ 勉強会：生徒を「ひとりの人間」として尊重するために
DESCRIPTION:生徒さんのコミュニケーションタイプを知り、授業に役立てましょう！
LOCATION:Zoom配信となります
END:VEVENT
END:VCALENDAR
