BEGIN:VCALENDAR
VERSION:2.0
PRODID:-//English Teachers Association of Japan
CALSCALE:GREGORIAN
METHOD:PUBLISH
X-WR-CALNAME:English Teachers Association of Japan
X-ORIGINAL-URL:https://etaj.org/event/finance
X-WR-CALDESC:ETAJ 勉強会：どんな人でもお金を貯められるマネールール
BEGIN:VEVENT
DTSTART:20180624T090000
DTEND:20180624T100000
SUMMARY:ETAJ 勉強会：どんな人でもお金を貯められるマネールール
DESCRIPTION:どんな人でもお金を貯められるマネールールを知りたい英語の先生方、是非ご参加ください！
LOCATION:Zoom配信となります
END:VEVENT
END:VCALENDAR
