BEGIN:VCALENDAR
VERSION:2.0
PRODID:-//English Teachers Association of Japan
CALSCALE:GREGORIAN
METHOD:PUBLISH
X-WR-CALNAME:English Teachers Association of Japan
X-ORIGINAL-URL:https://etaj.org/event/score990ontoeic
X-WR-CALDESC:ETAJ 勉強会：TOEIC受験、気合い入れ会
BEGIN:VEVENT
DTSTART:20180708T090000
DTEND:20180708T100000
SUMMARY:ETAJ 勉強会：TOEIC受験、気合い入れ会
DESCRIPTION:2018年のうちに、TOEIC目標点数を取得してしまいましょう！
LOCATION:Zoom配信となります
END:VEVENT
END:VCALENDAR
