BEGIN:VCALENDAR
VERSION:2.0
PRODID:-//English Teachers Association of Japan
CALSCALE:GREGORIAN
METHOD:PUBLISH
X-WR-CALNAME:English Teachers Association of Japan
X-ORIGINAL-URL:https://etaj.org/event/welovesnack
X-WR-CALDESC:ETAJ 雑談会：おやつ会議2018
BEGIN:VEVENT
DTSTART:20180630T160000
DTEND:20180630T170000
SUMMARY:ETAJ 雑談会：おやつ会議2018
DESCRIPTION:おやつについて語りながら、ETAJやETAJ Conventionの雰囲気を味わってみませんか？
LOCATION:Zoom配信となります
END:VEVENT
END:VCALENDAR
