BEGIN:VCALENDAR
VERSION:2.0
PRODID:-//English Teachers Association of Japan
CALSCALE:GREGORIAN
METHOD:PUBLISH
X-WR-CALNAME:English Teachers Association of Japan
X-ORIGINAL-URL:https://etaj.org/event/tothenextchapter
X-WR-CALDESC:ETAJ Convention 2018の振り返り会
BEGIN:VEVENT
DTSTART:20180826T090000
DTEND:20180826T100000
SUMMARY:ETAJ Convention 2018の振り返り会
DESCRIPTION:ETAJ Convention 2020に向けての第一歩を、一緒に踏み出しましょう。
LOCATION:
END:VEVENT
END:VCALENDAR
