BEGIN:VCALENDAR
VERSION:2.0
PRODID:-//English Teachers Association of Japan
CALSCALE:GREGORIAN
METHOD:PUBLISH
X-WR-CALNAME:English Teachers Association of Japan
X-ORIGINAL-URL:https://etaj.org/event/languagework
X-WR-CALDESC:ETAJ勉強会：TESOL「実際に英語を教える時の各種ポイント」
BEGIN:VEVENT
DTSTART:20190421T090000
DTEND:20190421T100000
SUMMARY:ETAJ勉強会：TESOL「実際に英語を教える時の各種ポイント」
DESCRIPTION:様々な方法で英語を教えるのが私達英語講師ですが、それぞれの項目を教える時に気を付けるべきことはご存知ですか？　私達と一緒に、英語講師として知っておくべき重要ポイントを確認しておきましょう。
LOCATION:
END:VEVENT
END:VCALENDAR
