BEGIN:VCALENDAR
VERSION:2.0
PRODID:-//English Teachers Association of Japan
CALSCALE:GREGORIAN
METHOD:PUBLISH
X-WR-CALNAME:English Teachers Association of Japan
X-ORIGINAL-URL:https://etaj.org/event/activelearning
X-WR-CALDESC:ETAJ勉強会：内向型の生徒の学習効率を考える
BEGIN:VEVENT
DTSTART:20190804T090000
DTEND:20190804T100000
SUMMARY:ETAJ勉強会：内向型の生徒の学習効率を考える
DESCRIPTION:「アクティブラーニング」という言葉を誤解していませんか？　その教育方法は特定の生徒の負担になっていませんか？　
LOCATION:
END:VEVENT
END:VCALENDAR
