BEGIN:VCALENDAR
VERSION:2.0
PRODID:-//English Teachers Association of Japan
CALSCALE:GREGORIAN
METHOD:PUBLISH
X-WR-CALNAME:English Teachers Association of Japan
X-ORIGINAL-URL:https://etaj.org/event/engschoolmanagement
X-WR-CALDESC:ETAJ勉強会：英語講師として一歩成長するために
BEGIN:VEVENT
DTSTART:20190908T090000
DTEND:20190908T100000
SUMMARY:ETAJ勉強会：英語講師として一歩成長するために
DESCRIPTION:ベテラン英語講師兼経営者の小野恭子先生から、①講師育成、②マネージメント、③集客を含む経営についてお話をお伺いします。
LOCATION:Zoom（オンライン会議室）
END:VEVENT
END:VCALENDAR
