BEGIN:VCALENDAR
VERSION:2.0
PRODID:-//English Teachers Association of Japan
CALSCALE:GREGORIAN
METHOD:PUBLISH
X-WR-CALNAME:English Teachers Association of Japan
X-ORIGINAL-URL:https://etaj.org/event/studyabroad
X-WR-CALDESC:ETAJ勉強会：20年の経験を持つ留学アドヴァイザーからのアドヴァイス！
BEGIN:VEVENT
DTSTART:20191013T210000
DTEND:20191013T220000
SUMMARY:ETAJ勉強会：20年の経験を持つ留学アドヴァイザーからのアドヴァイス！
DESCRIPTION:20年以上の経験を持つ留学アドヴァイザーの岩月真理さんをお招きして「留学」についてのお話をお伺いする機会です！
LOCATION:
END:VEVENT
END:VCALENDAR
