BEGIN:VCALENDAR
VERSION:2.0
PRODID:-//English Teachers Association of Japan
CALSCALE:GREGORIAN
METHOD:PUBLISH
X-WR-CALNAME:English Teachers Association of Japan
X-ORIGINAL-URL:https://etaj.org/event/gbpfp_2ndmonitor
X-WR-CALDESC:Global Business Professionals Foster Programs　第2モニター期
BEGIN:VEVENT
DTSTART:20191012T083000
DTEND:20191124T120000
SUMMARY:Global Business Professionals Foster Programs　第2モニター期
DESCRIPTION:グローバルに活躍するビジネスパーソンに必要なマインドやテクニック、それに付随して必要となってくるビジネス英語を学び、世界の舞台で仲間の信頼を得られるよう、プロフェッショナルな在り方や考え方を身につけていきましょう。
LOCATION:
END:VEVENT
END:VCALENDAR
