BEGIN:VCALENDAR
VERSION:2.0
PRODID:-//English Teachers Association of Japan
CALSCALE:GREGORIAN
METHOD:PUBLISH
X-WR-CALNAME:English Teachers Association of Japan
X-ORIGINAL-URL:https://etaj.org/event/webpoppins_mini
X-WR-CALDESC:ETAJ勉強会：ネットでの集客（ブログ、ウェブサイト）を学ぶ
BEGIN:VEVENT
DTSTART:20200418T210000
DTEND:20200418T220000
SUMMARY:ETAJ勉強会：ネットでの集客（ブログ、ウェブサイト）を学ぶ
DESCRIPTION:４月のETAJ勉強会では、オンラインを使った発信力を高めていく方法が学べます。
LOCATION:Zoom（オンライン会議室）
END:VEVENT
END:VCALENDAR
