BEGIN:VCALENDAR
VERSION:2.0
PRODID:-//English Teachers Association of Japan
CALSCALE:GREGORIAN
METHOD:PUBLISH
X-WR-CALNAME:English Teachers Association of Japan
X-ORIGINAL-URL:https://etaj.org/event/stayhealthy
X-WR-CALDESC:ETAJ勉強会：有事の際の自分と家族の心のケア
BEGIN:VEVENT
DTSTART:20200509T210000
DTEND:20200509T220000
SUMMARY:ETAJ勉強会：有事の際の自分と家族の心のケア
DESCRIPTION:臨床心理士のちあき先生から「有事の際の自分と家族の心のケア」について学ばせていただく機会です。
LOCATION:Zoom（オンライン会議室）
END:VEVENT
END:VCALENDAR
