BEGIN:VCALENDAR
VERSION:2.0
PRODID:-//English Teachers Association of Japan
CALSCALE:GREGORIAN
METHOD:PUBLISH
X-WR-CALNAME:English Teachers Association of Japan
X-ORIGINAL-URL:https://etaj.org/event/eduinthefuture
X-WR-CALDESC:ETAJ雑談会：今と未来の教育を考える
BEGIN:VEVENT
DTSTART:20200620T090000
DTEND:20200620T100000
SUMMARY:ETAJ雑談会：今と未来の教育を考える
DESCRIPTION:新型コロナウィルスがきっかけとなり感じた「今の教育」そして「未来の教育」について話しあい、「イエナプラン教育」についても学びましょう。
LOCATION:
END:VEVENT
END:VCALENDAR
