BEGIN:VCALENDAR
VERSION:2.0
PRODID:-//English Teachers Association of Japan
CALSCALE:GREGORIAN
METHOD:PUBLISH
X-WR-CALNAME:English Teachers Association of Japan
X-ORIGINAL-URL:https://etaj.org/event/instagram
X-WR-CALDESC:ETAJ勉強会：Instagramの利用法
BEGIN:VEVENT
DTSTART:20201024T210000
DTEND:20201024T220000
SUMMARY:ETAJ勉強会：Instagramの利用法
DESCRIPTION:今回、ETAJの勉強会ではInstagramでの情報発信に精通している高橋アキ先生をMain Speakerに迎え、Instagramの利用についてのお話をしていただきます。
LOCATION:Zoom（オンライン会議室）
END:VEVENT
END:VCALENDAR
