BEGIN:VCALENDAR
VERSION:2.0
PRODID:-//English Teachers Association of Japan
CALSCALE:GREGORIAN
METHOD:PUBLISH
X-WR-CALNAME:English Teachers Association of Japan
X-ORIGINAL-URL:https://etaj.org/event/cnn_glents
X-WR-CALDESC:ETAJ勉強会：CNN Glents対策を考える
BEGIN:VEVENT
DTSTART:20210814T090000
DTEND:20210814T100000
SUMMARY:ETAJ勉強会：CNN Glents対策を考える
DESCRIPTION:新しい英語運用試験として注目を集めている「CNN Glents」の対策となる英語学習法を、他英語講師と共に考えていく勉強会です。
LOCATION:Zoom（オンライン会議室）
END:VEVENT
END:VCALENDAR
