BEGIN:VCALENDAR
VERSION:2.0
PRODID:-//English Teachers Association of Japan
CALSCALE:GREGORIAN
METHOD:PUBLISH
X-WR-CALNAME:English Teachers Association of Japan
X-ORIGINAL-URL:https://etaj.org/event/convention-prep2022
X-WR-CALDESC:ETAJ勉強会：Convention登壇者候補の質問会＆相談会
BEGIN:VEVENT
DTSTART:20220522T090000
DTEND:20220522T100000
SUMMARY:ETAJ勉強会：Convention登壇者候補の質問会＆相談会
DESCRIPTION:2022年のConventionで発表に挑戦してみたい先生方、5月の勉強会が、その一歩を踏み出す機会となります！
LOCATION:
END:VEVENT
END:VCALENDAR
