BEGIN:VCALENDAR
VERSION:2.0
PRODID:-//English Teachers Association of Japan
CALSCALE:GREGORIAN
METHOD:PUBLISH
X-WR-CALNAME:English Teachers Association of Japan
X-ORIGINAL-URL:https://etaj.org/event/ai
X-WR-CALDESC:ETAJ勉強会：AIツールと外国語を学ぶ楽しさ
BEGIN:VEVENT
DTSTART:20230325T000000
DTEND:20230226T000000
SUMMARY:ETAJ勉強会：AIツールと外国語を学ぶ楽しさ
DESCRIPTION:
LOCATION:
END:VEVENT
END:VCALENDAR
