BEGIN:VCALENDAR
VERSION:2.0
PRODID:-//English Teachers Association of Japan
CALSCALE:GREGORIAN
METHOD:PUBLISH
X-WR-CALNAME:English Teachers Association of Japan
X-ORIGINAL-URL:https://etaj.org/event/growmodel
X-WR-CALDESC:ETAJ勉強会：Applying the GROW Coaching Model
BEGIN:VEVENT
DTSTART:20250126T090000
DTEND:20250126T100000
SUMMARY:ETAJ勉強会：Applying the GROW Coaching Model
DESCRIPTION:
LOCATION:Zoom（オンライン会議室）
END:VEVENT
END:VCALENDAR
