BEGIN:VCALENDAR
VERSION:2.0
PRODID:-//English Teachers Association of Japan
CALSCALE:GREGORIAN
METHOD:PUBLISH
X-WR-CALNAME:English Teachers Association of Japan
X-ORIGINAL-URL:https://etaj.org/event/er
X-WR-CALDESC:ETAJ勉強会：Building Better Readers【多読を学ぶ】
BEGIN:VEVENT
DTSTART:20250223T090000
DTEND:20250223T100000
SUMMARY:ETAJ勉強会：Building Better Readers【多読を学ぶ】
DESCRIPTION:英語力向上に欠かせない効果的なアプローチであるExtensive Reading（多読）を正しく学び、皆さんの授業に導入していってください。
LOCATION:Zoom（オンライン会議室）
END:VEVENT
END:VCALENDAR
