BEGIN:VCALENDAR
VERSION:2.0
PRODID:-//English Teachers Association of Japan
CALSCALE:GREGORIAN
METHOD:PUBLISH
X-WR-CALNAME:English Teachers Association of Japan
X-ORIGINAL-URL:https://etaj.org/event/ai-competency
X-WR-CALDESC:ETAJ勉強会：世界基準として定められている「AI 活用に必要な知識」を学ぶ
BEGIN:VEVENT
DTSTART:20250824T090000
DTEND:20250824T100000
SUMMARY:ETAJ勉強会：世界基準として定められている「AI 活用に必要な知識」を学ぶ
DESCRIPTION:英語指導者としての、AI授業導入に際する「国際基準として、しっておくべきこと」をきちんと学んでおきましょう。
LOCATION:Zoom（オンライン会議室）
END:VEVENT
END:VCALENDAR
