BEGIN:VCALENDAR
VERSION:2.0
PRODID:-//English Teachers Association of Japan
CALSCALE:GREGORIAN
METHOD:PUBLISH
X-WR-CALNAME:English Teachers Association of Japan
X-ORIGINAL-URL:https://etaj.org/event/aiineslclassroom
X-WR-CALDESC:ETAJ勉強会：英語教師のためのAI入門勉強会①②
BEGIN:VEVENT
DTSTART:20250914T090000
DTEND:20250914T100000
SUMMARY:ETAJ勉強会：英語教師のためのAI入門勉強会①②
DESCRIPTION:英語教師のためのAI入門勉強会を開催します。ChatGPTやCopilotなどの生成系AIを実際に体験しながら、授業での活かし方を一緒に探ってみましょう。
LOCATION:Zoom（オンライン会議室）
END:VEVENT
END:VCALENDAR
