BEGIN:VCALENDAR
VERSION:2.0
PRODID:-//English Teachers Association of Japan
CALSCALE:GREGORIAN
METHOD:PUBLISH
X-WR-CALNAME:English Teachers Association of Japan
X-ORIGINAL-URL:https://etaj.org/event/attention
X-WR-CALDESC:ETAJ勉強会：言語学習におけるAttentionについて
BEGIN:VEVENT
DTSTART:20251109T090000
DTEND:20251109T100000
SUMMARY:ETAJ勉強会：言語学習におけるAttentionについて
DESCRIPTION:Attention is what turns input into learning.
注意こそがインプットを学びに変えます。あなたは正しく「注意」を理解できていますか？　
LOCATION:Zoom（オンライン会議室）
END:VEVENT
END:VCALENDAR
